BEGIN:VCALENDAR
VERSION:2.0
PRODID:-//InStaff und Jobs GmbH
BEGIN:VEVENT
UID:af746b437e15a5e02e517bd3b77eb518@instaff.jobs
DTSTAMP:20260425T184428Z
LOCATION:Messe Basel\, Messeplatz\, 4058 Basel
DTSTART;TZID=Europe/Brussels:20160616T070000Z
DTEND;TZID=Europe/Brussels:20160619T160000Z
SUMMARY:Art Basel
DESCRIPTION:https://www.google.com/maps/search/?api=1&query=Messe+Basel%2C+Messeplatz%2C+4058+Basel
END:VEVENT
END:VCALENDAR