BEGIN:VCALENDAR
VERSION:2.0
PRODID:-//InStaff und Jobs GmbH
BEGIN:VEVENT
UID:f13a48a607182857d5c069bcbd90d125@instaff.jobs
DTSTAMP:20260425T184522Z
LOCATION:Messe Basel\, Messeplatz\, 4058 Basel
DTSTART;TZID=Europe/Brussels:20160415T070000Z
DTEND;TZID=Europe/Brussels:20160418T160000Z
SUMMARY:Creativa Basel 2016
DESCRIPTION:https://www.google.com/maps/search/?api=1&query=Messe+Basel%2C+Messeplatz%2C+4058+Basel
END:VEVENT
END:VCALENDAR