BEGIN:VCALENDAR
VERSION:2.0
PRODID:-//InStaff und Jobs GmbH
BEGIN:VEVENT
UID:fe073890d77841a4c26fc0ca47a3762e@instaff.jobs
DTSTAMP:20260425T184557Z
LOCATION:Messe Basel\, Messeplatz\, 4058 Basel
DTSTART;TZID=Europe/Brussels:20160614T070000Z
DTEND;TZID=Europe/Brussels:20160619T160000Z
SUMMARY:Design Miami Basel
DESCRIPTION:https://www.google.com/maps/search/?api=1&query=Messe+Basel%2C+Messeplatz%2C+4058+Basel
END:VEVENT
END:VCALENDAR