BEGIN:VCALENDAR
VERSION:2.0
PRODID:-//InStaff und Jobs GmbH
BEGIN:VEVENT
UID:e93e85d9ca36a522589104f60e8191a7@instaff.jobs
DTSTAMP:20260425T184341Z
LOCATION:Messe Basel\, Messeplatz\, 4058 Basel
DTSTART;TZID=Europe/Brussels:20160920T070000Z
DTEND;TZID=Europe/Brussels:20160923T160000Z
SUMMARY:ILMAC 2016
DESCRIPTION:https://www.google.com/maps/search/?api=1&query=Messe+Basel%2C+Messeplatz%2C+4058+Basel
END:VEVENT
END:VCALENDAR