BEGIN:VCALENDAR
VERSION:2.0
PRODID:-//InStaff und Jobs GmbH
BEGIN:VEVENT
UID:03036606de95164095c9078af2027d9d@instaff.jobs
DTSTAMP:20260419T202219Z
LOCATION:Messe Düsseldorf\, Stockumer Kirchstraße 61\, 40474 Düsseldorf
DTSTART;TZID=Europe/Brussels:20160113T070000Z
DTEND;TZID=Europe/Brussels:20160115T160000Z
SUMMARY:PSI
DESCRIPTION:https://www.google.com/maps/search/?api=1&query=Messe+Düsseldorf%2C+Stockumer+Kirchstraße+61%2C+40474+Düsseldorf
END:VEVENT
BEGIN:VEVENT
UID:ec295ffb2b387469197e9718b9217157@instaff.jobs
DTSTAMP:20260419T202219Z
LOCATION:Messe Düsseldorf\, Stockumer Kirchstraße 61\, 40474 Düsseldorf
DTSTART;TZID=Europe/Brussels:20160116T070000Z
DTEND;TZID=Europe/Brussels:20160117T160000Z
SUMMARY:Traumhochzeit
DESCRIPTION:https://www.google.com/maps/search/?api=1&query=Messe+Düsseldorf%2C+Stockumer+Kirchstraße+61%2C+40474+Düsseldorf
END:VEVENT
BEGIN:VEVENT
UID:3e1b63a4fc7e0abb7d805455ac8116b5@instaff.jobs
DTSTAMP:20260419T202219Z
LOCATION:Messe Düsseldorf\, Stockumer Kirchstraße 61\, 40474 Düsseldorf
DTSTART;TZID=Europe/Brussels:20160123T070000Z
DTEND;TZID=Europe/Brussels:20160131T160000Z
SUMMARY:boot Düsseldorf
DESCRIPTION:https://www.google.com/maps/search/?api=1&query=Messe+Düsseldorf%2C+Stockumer+Kirchstraße+61%2C+40474+Düsseldorf
END:VEVENT
BEGIN:VEVENT
UID:59619099b0fb571a67a1fe95125539d9@instaff.jobs
DTSTAMP:20260419T202219Z
LOCATION:Hyatt Regency Düsseldorf\, Speditionstraße 19\, 40221 Düsseldorf
DTSTART;TZID=Europe/Brussels:20160127T070000Z
DTEND;TZID=Europe/Brussels:20160128T160000Z
SUMMARY:Industrie 4 0 Strategiedialog 2016
DESCRIPTION:https://www.google.com/maps/search/?api=1&query=Hyatt+Regency+Düsseldorf%2C+Speditionstraße+19%2C+40221+Düsseldorf
END:VEVENT
BEGIN:VEVENT
UID:6a156fb6b92a4359f634d58a645a7236@instaff.jobs
DTSTAMP:20260419T202219Z
LOCATION:AREAL Böhler\, Hansaallee 321\, 40549 Düsseldorf 
DTSTART;TZID=Europe/Brussels:20160129T070000Z
DTEND;TZID=Europe/Brussels:20160201T160000Z
SUMMARY:The Gallery
DESCRIPTION:https://www.google.com/maps/search/?api=1&query=AREAL+Böhler%2C+Hansaallee+321%2C+40549+Düsseldorf+
END:VEVENT
BEGIN:VEVENT
UID:83817837b4a164f81c63802c2fd3c19e@instaff.jobs
DTSTAMP:20260419T202219Z
LOCATION: Luisen-Gymnasium\, Bastionstraße 24\, 40213 Düsseldorf
DTSTART;TZID=Europe/Brussels:20160130T070000Z
DTEND;TZID=Europe/Brussels:20160130T160000Z
SUMMARY:JuBi Düsseldorf
DESCRIPTION:https://www.google.com/maps/search/?api=1&query=+Luisen-Gymnasium%2C+Bastionstraße+24%2C+40213+Düsseldorf
END:VEVENT
BEGIN:VEVENT
UID:4a98ec65d5e297656dce2d0eb0b84e46@instaff.jobs
DTSTAMP:20260419T202219Z
LOCATION:Messe Düsseldorf\, Stockumer Kirchstraße 61\, 40474 Düsseldorf
DTSTART;TZID=Europe/Brussels:20160210T070000Z
DTEND;TZID=Europe/Brussels:20160212T160000Z
SUMMARY:GDS (Winter)
DESCRIPTION:https://www.google.com/maps/search/?api=1&query=Messe+Düsseldorf%2C+Stockumer+Kirchstraße+61%2C+40474+Düsseldorf
END:VEVENT
BEGIN:VEVENT
UID:0b87d7cc74d729afac2048332d4aae49@instaff.jobs
DTSTAMP:20260419T202219Z
LOCATION:Messe Düsseldorf\, Stockumer Kirchstraße 61\, 40474 Düsseldorf
DTSTART;TZID=Europe/Brussels:20160210T070000Z
DTEND;TZID=Europe/Brussels:20160212T160000Z
SUMMARY:Tag it! GDS Sommer
DESCRIPTION:https://www.google.com/maps/search/?api=1&query=Messe+Düsseldorf%2C+Stockumer+Kirchstraße+61%2C+40474+Düsseldorf
END:VEVENT
BEGIN:VEVENT
UID:c37c21f823a339f2593754d7f13761ae@instaff.jobs
DTSTAMP:20260419T202219Z
LOCATION:Messe Düsseldorf\, Stockumer Kirchstraße 61\, 40474 Düsseldorf
DTSTART;TZID=Europe/Brussels:20160223T070000Z
DTEND;TZID=Europe/Brussels:20160225T160000Z
SUMMARY:EuroCIS
DESCRIPTION:https://www.google.com/maps/search/?api=1&query=Messe+Düsseldorf%2C+Stockumer+Kirchstraße+61%2C+40474+Düsseldorf
END:VEVENT
BEGIN:VEVENT
UID:bc16485188301b60d9952ebfa429243b@instaff.jobs
DTSTAMP:20260419T202219Z
LOCATION:Messe Düsseldorf\, Stockumer Kirchstraße 61\, 40474 Düsseldorf
DTSTART;TZID=Europe/Brussels:20160223T070000Z
DTEND;TZID=Europe/Brussels:20160227T160000Z
SUMMARY:METAV 2016
DESCRIPTION:https://www.google.com/maps/search/?api=1&query=Messe+Düsseldorf%2C+Stockumer+Kirchstraße+61%2C+40474+Düsseldorf
END:VEVENT
BEGIN:VEVENT
UID:49dc439d973a0f854378fde810befd29@instaff.jobs
DTSTAMP:20260419T202219Z
LOCATION:Messe Düsseldorf\, Stockumer Kirchstraße 61\, 40474 Düsseldorf
DTSTART;TZID=Europe/Brussels:20160226T070000Z
DTEND;TZID=Europe/Brussels:20160228T160000Z
SUMMARY:ElectronicPartner
DESCRIPTION:https://www.google.com/maps/search/?api=1&query=Messe+Düsseldorf%2C+Stockumer+Kirchstraße+61%2C+40474+Düsseldorf
END:VEVENT
BEGIN:VEVENT
UID:cf1af1eedc5cae66ba0d5f84d1f7b061@instaff.jobs
DTSTAMP:20260419T202219Z
LOCATION:Messe Düsseldorf\, Stockumer Kirchstraße 61\, 40474 Düsseldorf
DTSTART;TZID=Europe/Brussels:20160304T070000Z
DTEND;TZID=Europe/Brussels:20160306T160000Z
SUMMARY:BEAUTY DÜSSELDORF
DESCRIPTION:https://www.google.com/maps/search/?api=1&query=Messe+Düsseldorf%2C+Stockumer+Kirchstraße+61%2C+40474+Düsseldorf
END:VEVENT
BEGIN:VEVENT
UID:55a956ad74dbe086a38077cfd510b097@instaff.jobs
DTSTAMP:20260419T202219Z
LOCATION:Messe Düsseldorf\, Stockumer Kirchstraße 61\, 40474 Düsseldorf
DTSTART;TZID=Europe/Brussels:20160305T070000Z
DTEND;TZID=Europe/Brussels:20160306T160000Z
SUMMARY:make - up artist design show
DESCRIPTION:https://www.google.com/maps/search/?api=1&query=Messe+Düsseldorf%2C+Stockumer+Kirchstraße+61%2C+40474+Düsseldorf
END:VEVENT
BEGIN:VEVENT
UID:8877a145546c35e156367459b1969874@instaff.jobs
DTSTAMP:20260419T202219Z
LOCATION:Messe Düsseldorf\, Stockumer Kirchstraße 61\, 40474 Düsseldorf
DTSTART;TZID=Europe/Brussels:20160305T070000Z
DTEND;TZID=Europe/Brussels:20160306T160000Z
SUMMARY:TOP HAIR INTERNATIONAL
DESCRIPTION:https://www.google.com/maps/search/?api=1&query=Messe+Düsseldorf%2C+Stockumer+Kirchstraße+61%2C+40474+Düsseldorf
END:VEVENT
BEGIN:VEVENT
UID:8483405b86baef2e8904426368decdb6@instaff.jobs
DTSTAMP:20260419T202219Z
LOCATION:Volkswagen Zentrum Düsseldorf\, Höherweg 85\, 40233 Düsseldorf
DTSTART;TZID=Europe/Brussels:20160312T070000Z
DTEND;TZID=Europe/Brussels:20160313T160000Z
SUMMARY:jobmesse Düsseldorf 2016
DESCRIPTION:https://www.google.com/maps/search/?api=1&query=Volkswagen+Zentrum+Düsseldorf%2C+Höherweg+85%2C+40233+Düsseldorf
END:VEVENT
BEGIN:VEVENT
UID:05eb27b1b1288197946f8b27a69e95ac@instaff.jobs
DTSTAMP:20260419T202219Z
LOCATION:Messe Düsseldorf\, Stockumer Kirchstraße 61\, 40474 Düsseldorf
DTSTART;TZID=Europe/Brussels:20160313T070000Z
DTEND;TZID=Europe/Brussels:20160315T160000Z
SUMMARY:ProWein
DESCRIPTION:https://www.google.com/maps/search/?api=1&query=Messe+Düsseldorf%2C+Stockumer+Kirchstraße+61%2C+40474+Düsseldorf
END:VEVENT
BEGIN:VEVENT
UID:7d3b0b56d517bad316c099d18baefbea@instaff.jobs
DTSTAMP:20260419T202219Z
LOCATION:Messe Düsseldorf\, Stockumer Kirchstraße 61\, 40474 Düsseldorf
DTSTART;TZID=Europe/Brussels:20160315T070000Z
DTEND;TZID=Europe/Brussels:20160317T160000Z
SUMMARY:Energy Storage
DESCRIPTION:https://www.google.com/maps/search/?api=1&query=Messe+Düsseldorf%2C+Stockumer+Kirchstraße+61%2C+40474+Düsseldorf
END:VEVENT
BEGIN:VEVENT
UID:b046396bbfcb860d28d88a1e3691c32d@instaff.jobs
DTSTAMP:20260419T202219Z
LOCATION:Heinrich-Heine-Universität Düsseldorf\, Universitätsstraße 1\, 40225 Düsseldorf
DTSTART;TZID=Europe/Brussels:20160316T070000Z
DTEND;TZID=Europe/Brussels:20160319T160000Z
SUMMARY:60 Jahrestagung DGKN
DESCRIPTION:https://www.google.com/maps/search/?api=1&query=Heinrich-Heine-Universität+Düsseldorf%2C+Universitätsstraße+1%2C+40225+Düsseldorf
END:VEVENT
BEGIN:VEVENT
UID:3f54b0d773303ed98e8c38e0f612fede@instaff.jobs
DTSTAMP:20260419T202219Z
LOCATION:Messe Düsseldorf\, Stockumer Kirchstraße 61\, 40474 Düsseldorf
DTSTART;TZID=Europe/Brussels:20160404T070000Z
DTEND;TZID=Europe/Brussels:20160408T160000Z
SUMMARY:Tube
DESCRIPTION:https://www.google.com/maps/search/?api=1&query=Messe+Düsseldorf%2C+Stockumer+Kirchstraße+61%2C+40474+Düsseldorf
END:VEVENT
BEGIN:VEVENT
UID:dd82c4f635eadbeafcb3e743cee6b10b@instaff.jobs
DTSTAMP:20260419T202219Z
LOCATION:Messe Düsseldorf\, Stockumer Kirchstraße 61\, 40474 Düsseldorf
DTSTART;TZID=Europe/Brussels:20160404T070000Z
DTEND;TZID=Europe/Brussels:20160408T160000Z
SUMMARY:wire
DESCRIPTION:https://www.google.com/maps/search/?api=1&query=Messe+Düsseldorf%2C+Stockumer+Kirchstraße+61%2C+40474+Düsseldorf
END:VEVENT
BEGIN:VEVENT
UID:c96dbc88c7653133caa67d9dfca2a65d@instaff.jobs
DTSTAMP:20260419T202219Z
LOCATION:Messe Düsseldorf\, Stockumer Kirchstraße 61\, 40474 Düsseldorf
DTSTART;TZID=Europe/Brussels:20160429T070000Z
DTEND;TZID=Europe/Brussels:20160430T160000Z
SUMMARY:Berufe live Düsseldorf
DESCRIPTION:https://www.google.com/maps/search/?api=1&query=Messe+Düsseldorf%2C+Stockumer+Kirchstraße+61%2C+40474+Düsseldorf
END:VEVENT
BEGIN:VEVENT
UID:8bb9903830d5c93d2c38837be1f98412@instaff.jobs
DTSTAMP:20260419T202219Z
LOCATION:AREAL Böhler\, Hansaallee 321\, 40549 Düsseldorf 
DTSTART;TZID=Europe/Brussels:20160430T070000Z
DTEND;TZID=Europe/Brussels:20160501T160000Z
SUMMARY:Second Home International Düsseldorf
DESCRIPTION:https://www.google.com/maps/search/?api=1&query=AREAL+Böhler%2C+Hansaallee+321%2C+40549+Düsseldorf+
END:VEVENT
BEGIN:VEVENT
UID:c1536979ebb44375eb66163c0201b814@instaff.jobs
DTSTAMP:20260419T202219Z
LOCATION:Messe Düsseldorf\, Stockumer Kirchstraße 61\, 40474 Düsseldorf
DTSTART;TZID=Europe/Brussels:20160531T070000Z
DTEND;TZID=Europe/Brussels:20160610T160000Z
SUMMARY:drupa
DESCRIPTION:https://www.google.com/maps/search/?api=1&query=Messe+Düsseldorf%2C+Stockumer+Kirchstraße+61%2C+40474+Düsseldorf
END:VEVENT
BEGIN:VEVENT
UID:5f7ad7225e9c297d2289f842126ae674@instaff.jobs
DTSTAMP:20260419T202219Z
LOCATION:Galopprennbahn Grafenberg\, Rennbahnstraße 20\, 40629 Düsseldorf
DTSTART;TZID=Europe/Brussels:20160616T070000Z
DTEND;TZID=Europe/Brussels:20160619T160000Z
SUMMARY:HOME & GARDEN Düsseldorf
DESCRIPTION:https://www.google.com/maps/search/?api=1&query=Galopprennbahn+Grafenberg%2C+Rennbahnstraße+20%2C+40629+Düsseldorf
END:VEVENT
BEGIN:VEVENT
UID:327ed77bd311e77ffb32cef6b435598c@instaff.jobs
DTSTAMP:20260419T202219Z
LOCATION:Messe Düsseldorf\, Stockumer Kirchstraße 61\, 40474 Düsseldorf
DTSTART;TZID=Europe/Brussels:20160622T070000Z
DTEND;TZID=Europe/Brussels:20160622T160000Z
SUMMARY:KVK-Messe
DESCRIPTION:https://www.google.com/maps/search/?api=1&query=Messe+Düsseldorf%2C+Stockumer+Kirchstraße+61%2C+40474+Düsseldorf
END:VEVENT
BEGIN:VEVENT
UID:0b74230c97ed31c40560ff50ffcd9a2c@instaff.jobs
DTSTAMP:20260419T202219Z
LOCATION:Messe Düsseldorf\, Stockumer Kirchstraße 61\, 40474 Düsseldorf
DTSTART;TZID=Europe/Brussels:20160625T070000Z
DTEND;TZID=Europe/Brussels:20160627T160000Z
SUMMARY:INTERBRIDE
DESCRIPTION:https://www.google.com/maps/search/?api=1&query=Messe+Düsseldorf%2C+Stockumer+Kirchstraße+61%2C+40474+Düsseldorf
END:VEVENT
BEGIN:VEVENT
UID:f7e09c00d76faf8fae4c492365c0082b@instaff.jobs
DTSTAMP:20260419T202219Z
LOCATION:Mitsubishi Electric HALLE\, Siegburger Str\. 15\, 40591 Düsseldorf
DTSTART;TZID=Europe/Brussels:20160705T070000Z
DTEND;TZID=Europe/Brussels:20160706T160000Z
SUMMARY:vocatium Düsseldorf
DESCRIPTION:https://www.google.com/maps/search/?api=1&query=Mitsubishi+Electric+HALLE%2C+Siegburger+Str.+15%2C+40591+Düsseldorf
END:VEVENT
BEGIN:VEVENT
UID:960ca94c3e69b7d867fe8d1e68bb099c@instaff.jobs
DTSTAMP:20260419T202219Z
LOCATION:Steigenberger Parkhotel\, Königsallee 1a\, 40212 Düsseldorf
DTSTART;TZID=Europe/Brussels:20160714T070000Z
DTEND;TZID=Europe/Brussels:20160714T160000Z
SUMMARY:JURAcon Düsseldorf
DESCRIPTION:https://www.google.com/maps/search/?api=1&query=Steigenberger+Parkhotel%2C+Königsallee+1a%2C+40212+Düsseldorf
END:VEVENT
BEGIN:VEVENT
UID:b76b2f105a1a252bcb6a3f8b19f01211@instaff.jobs
DTSTAMP:20260419T202219Z
LOCATION:
DTSTART;TZID=Europe/Brussels:20160722T070000Z
DTEND;TZID=Europe/Brussels:20160722T160000Z
SUMMARY:CPD
DESCRIPTION:
END:VEVENT
BEGIN:VEVENT
UID:a85526892157fc165603ceccd9f4bd2a@instaff.jobs
DTSTAMP:20260419T202219Z
LOCATION:AREAL Böhler\, Hansaallee 321\, 40549 Düsseldorf 
DTSTART;TZID=Europe/Brussels:20160722T070000Z
DTEND;TZID=Europe/Brussels:20160725T160000Z
SUMMARY:The Gallery
DESCRIPTION:https://www.google.com/maps/search/?api=1&query=AREAL+Böhler%2C+Hansaallee+321%2C+40549+Düsseldorf+
END:VEVENT
BEGIN:VEVENT
UID:715f3c152a085b5762e1307541fee80a@instaff.jobs
DTSTAMP:20260419T202219Z
LOCATION:B1\, Bennigsen Platz 1\, 40474 Düsseldorf  
DTSTART;TZID=Europe/Brussels:20160723T070000Z
DTEND;TZID=Europe/Brussels:20160726T160000Z
SUMMARY:Supreme Women & Men
DESCRIPTION:https://www.google.com/maps/search/?api=1&query=B1%2C+Bennigsen+Platz+1%2C+40474+Düsseldorf++
END:VEVENT
BEGIN:VEVENT
UID:d0da0da08658522bb16a00f45ec62aaa@instaff.jobs
DTSTAMP:20260419T202219Z
LOCATION:Messe Düsseldorf\, Stockumer Kirchstraße 61\, 40474 Düsseldorf
DTSTART;TZID=Europe/Brussels:20160726T070000Z
DTEND;TZID=Europe/Brussels:20160728T160000Z
SUMMARY:GDS (Sommer)
DESCRIPTION:https://www.google.com/maps/search/?api=1&query=Messe+Düsseldorf%2C+Stockumer+Kirchstraße+61%2C+40474+Düsseldorf
END:VEVENT
BEGIN:VEVENT
UID:2d415d821f070a15faa6ed71ad1439e0@instaff.jobs
DTSTAMP:20260419T202219Z
LOCATION:KÖ Graben\, Königsallee\, 40212 Düsseldorf
DTSTART;TZID=Europe/Brussels:20160826T070000Z
DTEND;TZID=Europe/Brussels:20160828T160000Z
SUMMARY:GOURMET FESTIVAL Düsseldorf 2016
DESCRIPTION:https://www.google.com/maps/search/?api=1&query=KÖ+Graben%2C+Königsallee%2C+40212+Düsseldorf
END:VEVENT
BEGIN:VEVENT
UID:c5511691a9b05622e51e0732fc856c9b@instaff.jobs
DTSTAMP:20260419T202219Z
LOCATION:Messe Düsseldorf\, Stockumer Kirchstraße 61\, 40474 Düsseldorf
DTSTART;TZID=Europe/Brussels:20160826T070000Z
DTEND;TZID=Europe/Brussels:20160904T160000Z
SUMMARY:Caravan Salon Düsseldorf 2016
DESCRIPTION:https://www.google.com/maps/search/?api=1&query=Messe+Düsseldorf%2C+Stockumer+Kirchstraße+61%2C+40474+Düsseldorf
END:VEVENT
BEGIN:VEVENT
UID:7aea96d4e43f6c3f920e31db8c577622@instaff.jobs
DTSTAMP:20260419T202219Z
LOCATION:NRW-Forum Kultur und Wirtschaft\, Ehrenhof 2\, 40479 Düsseldorf
DTSTART;TZID=Europe/Brussels:20160831T070000Z
DTEND;TZID=Europe/Brussels:20160903T160000Z
SUMMARY:Internationale Tanzmesse NRW
DESCRIPTION:https://www.google.com/maps/search/?api=1&query=NRW-Forum+Kultur+und+Wirtschaft%2C+Ehrenhof+2%2C+40479+Düsseldorf
END:VEVENT
BEGIN:VEVENT
UID:9c08d7d908bf3bcab248697d886191a6@instaff.jobs
DTSTAMP:20260419T202219Z
LOCATION:Messe Düsseldorf\, Stockumer Kirchstraße 61\, 40474 Düsseldorf
DTSTART;TZID=Europe/Brussels:20160902T070000Z
DTEND;TZID=Europe/Brussels:20160904T160000Z
SUMMARY:TourNatur 2016
DESCRIPTION:https://www.google.com/maps/search/?api=1&query=Messe+Düsseldorf%2C+Stockumer+Kirchstraße+61%2C+40474+Düsseldorf
END:VEVENT
BEGIN:VEVENT
UID:82a0d76bfcd3501e189fa34924ecd6e2@instaff.jobs
DTSTAMP:20260419T202219Z
LOCATION:Messe Düsseldorf\, Stockumer Kirchstraße 61\, 40474 Düsseldorf
DTSTART;TZID=Europe/Brussels:20160903T070000Z
DTEND;TZID=Europe/Brussels:20160904T160000Z
SUMMARY:Deutscher Heilpraktikertag
DESCRIPTION:https://www.google.com/maps/search/?api=1&query=Messe+Düsseldorf%2C+Stockumer+Kirchstraße+61%2C+40474+Düsseldorf
END:VEVENT
BEGIN:VEVENT
UID:c37aa6b9664985ef05c7e281a2facab3@instaff.jobs
DTSTAMP:20260419T202219Z
LOCATION:Messe Düsseldorf\, Stockumer Kirchstraße 61\, 40474 Düsseldorf
DTSTART;TZID=Europe/Brussels:20160904T070000Z
DTEND;TZID=Europe/Brussels:20160905T160000Z
SUMMARY:Chefs Culinar
DESCRIPTION:https://www.google.com/maps/search/?api=1&query=Messe+Düsseldorf%2C+Stockumer+Kirchstraße+61%2C+40474+Düsseldorf
END:VEVENT
BEGIN:VEVENT
UID:447dfa2a139138c597bb96d315c50f43@instaff.jobs
DTSTAMP:20260419T202219Z
LOCATION:AREAL Böhler\, Hansaallee 321\, 40549 Düsseldorf 
DTSTART;TZID=Europe/Brussels:20160908T070000Z
DTEND;TZID=Europe/Brussels:20160908T160000Z
SUMMARY:Karrieretag
DESCRIPTION:https://www.google.com/maps/search/?api=1&query=AREAL+Böhler%2C+Hansaallee+321%2C+40549+Düsseldorf+
END:VEVENT
BEGIN:VEVENT
UID:b5a15ab27bb94cc8b6a9ec65c32df4d9@instaff.jobs
DTSTAMP:20260419T202219Z
LOCATION:Meliá Düsseldorf\, Inselstraße 2\, 40479 Düsseldorf
DTSTART;TZID=Europe/Brussels:20160908T070000Z
DTEND;TZID=Europe/Brussels:20160909T160000Z
SUMMARY:12 MARA Kongress
DESCRIPTION:https://www.google.com/maps/search/?api=1&query=Meliá+Düsseldorf%2C+Inselstraße+2%2C+40479+Düsseldorf
END:VEVENT
BEGIN:VEVENT
UID:ee5e4e91bfc04d6416c95980030aa852@instaff.jobs
DTSTAMP:20260419T202219Z
LOCATION:Messe Düsseldorf\, Stockumer Kirchstraße 61\, 40474 Düsseldorf
DTSTART;TZID=Europe/Brussels:20160910T070000Z
DTEND;TZID=Europe/Brussels:20160910T160000Z
SUMMARY:id infotage dental Düsseldorf 2016
DESCRIPTION:https://www.google.com/maps/search/?api=1&query=Messe+Düsseldorf%2C+Stockumer+Kirchstraße+61%2C+40474+Düsseldorf
END:VEVENT
BEGIN:VEVENT
UID:7d104b93d42c3501dbc3e32771c82a44@instaff.jobs
DTSTAMP:20260419T202219Z
LOCATION:Port Seven\, Franziusstraße 7\, 40219 Düsseldorf
DTSTART;TZID=Europe/Brussels:20160910T070000Z
DTEND;TZID=Europe/Brussels:20160911T160000Z
SUMMARY:SEE Selected Eyewear
DESCRIPTION:https://www.google.com/maps/search/?api=1&query=Port+Seven%2C+Franziusstraße+7%2C+40219+Düsseldorf
END:VEVENT
BEGIN:VEVENT
UID:4019e14382cd8487d7b23cc94adc0b5e@instaff.jobs
DTSTAMP:20260419T202219Z
LOCATION:Mitsubishi Electric HALLE\, Siegburger Str\. 15\, 40591 Düsseldorf
DTSTART;TZID=Europe/Brussels:20160917T070000Z
DTEND;TZID=Europe/Brussels:20160917T160000Z
SUMMARY:Stuzubi Düsseldorf
DESCRIPTION:https://www.google.com/maps/search/?api=1&query=Mitsubishi+Electric+HALLE%2C+Siegburger+Str.+15%2C+40591+Düsseldorf
END:VEVENT
BEGIN:VEVENT
UID:1149605714c9acfa22da2f27e827b834@instaff.jobs
DTSTAMP:20260419T202219Z
LOCATION:Messe Düsseldorf\, Stockumer Kirchstraße 61\, 40474 Düsseldorf
DTSTART;TZID=Europe/Brussels:20160920T070000Z
DTEND;TZID=Europe/Brussels:20160923T160000Z
SUMMARY:glasstec
DESCRIPTION:https://www.google.com/maps/search/?api=1&query=Messe+Düsseldorf%2C+Stockumer+Kirchstraße+61%2C+40474+Düsseldorf
END:VEVENT
BEGIN:VEVENT
UID:4a6514cfb8947d4f0d2e8065adbb52ab@instaff.jobs
DTSTAMP:20260419T202219Z
LOCATION:Messe Düsseldorf\, Stockumer Kirchstraße 61\, 40474 Düsseldorf
DTSTART;TZID=Europe/Brussels:20160928T070000Z
DTEND;TZID=Europe/Brussels:20161001T160000Z
SUMMARY:Rehacare International
DESCRIPTION:https://www.google.com/maps/search/?api=1&query=Messe+Düsseldorf%2C+Stockumer+Kirchstraße+61%2C+40474+Düsseldorf
END:VEVENT
BEGIN:VEVENT
UID:52d7d78fb3795d35aada679863602851@instaff.jobs
DTSTAMP:20260419T202219Z
LOCATION:AREAL Böhler\, Hansaallee 321\, 40549 Düsseldorf 
DTSTART;TZID=Europe/Brussels:20161012T070000Z
DTEND;TZID=Europe/Brussels:20161013T160000Z
SUMMARY:NEOCOM 2016
DESCRIPTION:https://www.google.com/maps/search/?api=1&query=AREAL+Böhler%2C+Hansaallee+321%2C+40549+Düsseldorf+
END:VEVENT
BEGIN:VEVENT
UID:dfc42dd8a17ca5df10f56c3d9b475fa1@instaff.jobs
DTSTAMP:20260419T202219Z
LOCATION:Messe Düsseldorf\, Stockumer Kirchstraße 61\, 40474 Düsseldorf
DTSTART;TZID=Europe/Brussels:20161019T070000Z
DTEND;TZID=Europe/Brussels:20161026T160000Z
SUMMARY:K Messe
DESCRIPTION:https://www.google.com/maps/search/?api=1&query=Messe+Düsseldorf%2C+Stockumer+Kirchstraße+61%2C+40474+Düsseldorf
END:VEVENT
BEGIN:VEVENT
UID:f025754df0a85dea83629bee94442a36@instaff.jobs
DTSTAMP:20260419T202219Z
LOCATION:AREAL Böhler\, Hansaallee 321\, 40549 Düsseldorf 
DTSTART;TZID=Europe/Brussels:20161028T070000Z
DTEND;TZID=Europe/Brussels:20161030T160000Z
SUMMARY:Veggie World
DESCRIPTION:https://www.google.com/maps/search/?api=1&query=AREAL+Böhler%2C+Hansaallee+321%2C+40549+Düsseldorf+
END:VEVENT
BEGIN:VEVENT
UID:e4547c748acd809c87274392a83b062b@instaff.jobs
DTSTAMP:20260419T202219Z
LOCATION:AREAL Böhler\, Hansaallee 321\, 40549 Düsseldorf 
DTSTART;TZID=Europe/Brussels:20161104T070000Z
DTEND;TZID=Europe/Brussels:20161106T160000Z
SUMMARY:Bau- und Wohnmesse Düsseldorf
DESCRIPTION:https://www.google.com/maps/search/?api=1&query=AREAL+Böhler%2C+Hansaallee+321%2C+40549+Düsseldorf+
END:VEVENT
BEGIN:VEVENT
UID:ca5b57fc3c045387db0209e1185435be@instaff.jobs
DTSTAMP:20260419T202219Z
LOCATION:Mitsubishi Electric HALLE\, Siegburger Str\. 15\, 40591 Düsseldorf
DTSTART;TZID=Europe/Brussels:20161112T070000Z
DTEND;TZID=Europe/Brussels:20161113T160000Z
SUMMARY:Hochzeitsmesse Düsseldorf
DESCRIPTION:https://www.google.com/maps/search/?api=1&query=Mitsubishi+Electric+HALLE%2C+Siegburger+Str.+15%2C+40591+Düsseldorf
END:VEVENT
BEGIN:VEVENT
UID:19f91892e89c00c00607e9e21dfbf9ef@instaff.jobs
DTSTAMP:20260419T202219Z
LOCATION:Messe Düsseldorf\, Stockumer Kirchstraße 61\, 40474 Düsseldorf
DTSTART;TZID=Europe/Brussels:20161114T070000Z
DTEND;TZID=Europe/Brussels:20161117T160000Z
SUMMARY:COMPAMED
DESCRIPTION:https://www.google.com/maps/search/?api=1&query=Messe+Düsseldorf%2C+Stockumer+Kirchstraße+61%2C+40474+Düsseldorf
END:VEVENT
BEGIN:VEVENT
UID:1598ae5cbb3907f268f375355ca00585@instaff.jobs
DTSTAMP:20260419T202219Z
LOCATION:Messe Düsseldorf\, Stockumer Kirchstraße 61\, 40474 Düsseldorf
DTSTART;TZID=Europe/Brussels:20161114T070000Z
DTEND;TZID=Europe/Brussels:20161117T160000Z
SUMMARY:MEDICA
DESCRIPTION:https://www.google.com/maps/search/?api=1&query=Messe+Düsseldorf%2C+Stockumer+Kirchstraße+61%2C+40474+Düsseldorf
END:VEVENT
BEGIN:VEVENT
UID:3855f7fc198e11c51854524b4fe8785a@instaff.jobs
DTSTAMP:20260419T202219Z
LOCATION:Messe Düsseldorf\, Stockumer Kirchstraße 61\, 40474 Düsseldorf
DTSTART;TZID=Europe/Brussels:20161129T070000Z
DTEND;TZID=Europe/Brussels:20161201T160000Z
SUMMARY:ALUMINIUM
DESCRIPTION:https://www.google.com/maps/search/?api=1&query=Messe+Düsseldorf%2C+Stockumer+Kirchstraße+61%2C+40474+Düsseldorf
END:VEVENT
BEGIN:VEVENT
UID:21069f43b9f17bdc0f2687e4e04eadd2@instaff.jobs
DTSTAMP:20260419T202219Z
LOCATION:Messe Düsseldorf\, Stockumer Kirchstraße 61\, 40474 Düsseldorf
DTSTART;TZID=Europe/Brussels:20161129T070000Z
DTEND;TZID=Europe/Brussels:20161201T160000Z
SUMMARY:COMPOSITES EUROPE
DESCRIPTION:https://www.google.com/maps/search/?api=1&query=Messe+Düsseldorf%2C+Stockumer+Kirchstraße+61%2C+40474+Düsseldorf
END:VEVENT
BEGIN:VEVENT
UID:f51d4b2cd7c35cbf2e18c524963a434f@instaff.jobs
DTSTAMP:20260419T202219Z
LOCATION:Messe Düsseldorf\, Stockumer Kirchstraße 61\, 40474 Düsseldorf
DTSTART;TZID=Europe/Brussels:20161129T070000Z
DTEND;TZID=Europe/Brussels:20161201T160000Z
SUMMARY:Valve World Expo
DESCRIPTION:https://www.google.com/maps/search/?api=1&query=Messe+Düsseldorf%2C+Stockumer+Kirchstraße+61%2C+40474+Düsseldorf
END:VEVENT
BEGIN:VEVENT
UID:7efd1ab090273cb62e27a9a3300fa477@instaff.jobs
DTSTAMP:20260419T202219Z
LOCATION:Messe Düsseldorf\, Stockumer Kirchstraße 61\, 40474 Düsseldorf
DTSTART;TZID=Europe/Brussels:20161206T070000Z
DTEND;TZID=Europe/Brussels:20161209T160000Z
SUMMARY:Euromold
DESCRIPTION:https://www.google.com/maps/search/?api=1&query=Messe+Düsseldorf%2C+Stockumer+Kirchstraße+61%2C+40474+Düsseldorf
END:VEVENT
END:VCALENDAR