BEGIN:VCALENDAR
VERSION:2.0
PRODID:-//InStaff und Jobs GmbH
BEGIN:VEVENT
UID:d511e6eecb14cee66045def208863a96@instaff.jobs
DTSTAMP:20260424T121515Z
LOCATION:Landschaftspark Duisburg-Nord\, Emscherstraße 71\, 47137 Duisburg
DTSTART;TZID=Europe/Brussels:20161118T070000Z
DTEND;TZID=Europe/Brussels:20161120T160000Z
SUMMARY:Bauen & Wohnen Duisburg
DESCRIPTION:https://www.google.com/maps/search/?api=1&query=Landschaftspark+Duisburg-Nord%2C+Emscherstraße+71%2C+47137+Duisburg
END:VEVENT
END:VCALENDAR