BEGIN:VCALENDAR
VERSION:2.0
PRODID:-//InStaff und Jobs GmbH
BEGIN:VEVENT
UID:6abcf4508598f3632cdef7c17874e25a@instaff.jobs
DTSTAMP:20260419T103535Z
LOCATION:Eissporthalle Frankfurt\, Am Bornheimer Hang 4\, 60386 Frankfurt am Main
DTSTART;TZID=Europe/Brussels:20160709T070000Z
DTEND;TZID=Europe/Brussels:20160709T160000Z
SUMMARY:ABI-Zukunft Frankfurt
DESCRIPTION:https://www.google.com/maps/search/?api=1&query=Eissporthalle+Frankfurt%2C+Am+Bornheimer+Hang+4%2C+60386+Frankfurt+am+Main
END:VEVENT
END:VCALENDAR