BEGIN:VCALENDAR
VERSION:2.0
PRODID:-//InStaff und Jobs GmbH
BEGIN:VEVENT
UID:aa83db37a59dd9f3c5ad65fe7c52c129@instaff.jobs
DTSTAMP:20260419T131722Z
LOCATION:Leipziger Messe\, Messe-Allee 1\, 04356 Leipzig
DTSTART;TZID=Europe/Brussels:20160414T070000Z
DTEND;TZID=Europe/Brussels:20160415T160000Z
SUMMARY:Deutsches Dialog Institut GmbH
DESCRIPTION:https://www.google.com/maps/search/?api=1&query=Leipziger+Messe%2C+Messe-Allee+1%2C+04356+Leipzig
END:VEVENT
END:VCALENDAR