BEGIN:VCALENDAR
VERSION:2.0
PRODID:-//InStaff und Jobs GmbH
BEGIN:VEVENT
UID:f1ca30fc373ea4348e610fbff5e948d8@instaff.jobs
DTSTAMP:20260419T130640Z
LOCATION:
DTSTART;TZID=Europe/Brussels:20160122T070000Z
DTEND;TZID=Europe/Brussels:20160124T160000Z
SUMMARY:Dreamhack
DESCRIPTION:
END:VEVENT
END:VCALENDAR