BEGIN:VCALENDAR
VERSION:2.0
PRODID:-//InStaff und Jobs GmbH
BEGIN:VEVENT
UID:e35d3d5d76ae0d090d35bb77b88a92c0@instaff.jobs
DTSTAMP:20260419T131843Z
LOCATION:Leipziger Messe\, Messe-Allee 1\, 04356 Leipzig
DTSTART;TZID=Europe/Brussels:20160317T070000Z
DTEND;TZID=Europe/Brussels:20160320T160000Z
SUMMARY:Leipziger Buchmesse / Lesefest Leipzig liest
DESCRIPTION:https://www.google.com/maps/search/?api=1&query=Leipziger+Messe%2C+Messe-Allee+1%2C+04356+Leipzig
END:VEVENT
END:VCALENDAR