BEGIN:VCALENDAR
VERSION:2.0
PRODID:-//InStaff und Jobs GmbH
BEGIN:VEVENT
UID:6b20e22a0684f2536577957e2dd175d4@instaff.jobs
DTSTAMP:20260421T103217Z
LOCATION:
DTSTART;TZID=Europe/Brussels:20160114T070000Z
DTEND;TZID=Europe/Brussels:20160117T160000Z
SUMMARY:Partner Pferd
DESCRIPTION:
END:VEVENT
END:VCALENDAR