BEGIN:VCALENDAR
VERSION:2.0
PRODID:-//InStaff und Jobs GmbH
BEGIN:VEVENT
UID:4cef571751f8ab0d65eb18e811df7d1e@instaff.jobs
DTSTAMP:20260425T183228Z
LOCATION:Messe Basel\, Messeplatz\, 4058 Basel
DTSTART;TZID=Europe/Brussels:20171118T070000Z
DTEND;TZID=Europe/Brussels:20171122T160000Z
SUMMARY:Igeho 2017
DESCRIPTION:https://www.google.com/maps/search/?api=1&query=Messe+Basel%2C+Messeplatz%2C+4058+Basel
END:VEVENT
END:VCALENDAR