BEGIN:VCALENDAR
VERSION:2.0
PRODID:-//InStaff und Jobs GmbH
BEGIN:VEVENT
UID:5f2baca7f6b688c87961a557c137ca4e@instaff.jobs
DTSTAMP:20260419T103535Z
LOCATION:Dorint Park Hotel Bremen\, Im Bürgerpark\, 28209 Bremen
DTSTART;TZID=Europe/Brussels:20171022T070000Z
DTEND;TZID=Europe/Brussels:20171022T160000Z
SUMMARY:Hera – Die Hochzeitsmesse 2017 in Bremen
DESCRIPTION:https://www.google.com/maps/search/?api=1&query=Dorint+Park+Hotel+Bremen%2C+Im+Bürgerpark%2C+28209+Bremen
END:VEVENT
END:VCALENDAR