BEGIN:VCALENDAR
VERSION:2.0
PRODID:-//InStaff und Jobs GmbH
BEGIN:VEVENT
UID:d2ed36b5f17cc9323b582979c70b99c6@instaff.jobs
DTSTAMP:20260421T100020Z
LOCATION:Kultur- und Kongresszentrum Liederhalle \(KKL\)\, Berliner Platz 1-3\, 70174 Stuttgart
DTSTART;TZID=Europe/Brussels:20170317T070000Z
DTEND;TZID=Europe/Brussels:20170319T160000Z
SUMMARY:Blickfang
DESCRIPTION:https://www.google.com/maps/search/?api=1&query=Kultur-+und+Kongresszentrum+Liederhalle+(KKL)%2C+Berliner+Platz+1-3%2C+70174+Stuttgart
END:VEVENT
END:VCALENDAR