BEGIN:VCALENDAR
VERSION:2.0
PRODID:-//InStaff und Jobs GmbH
BEGIN:VEVENT
UID:d4a76614804cd68ace1246919ad00bf6@instaff.jobs
DTSTAMP:20260425T122030Z
LOCATION:Messe Berlin\, Messedamm 22\, 14055 Berlin
DTSTART;TZID=Europe/Brussels:20181106T070000Z
DTEND;TZID=Europe/Brussels:20181108T160000Z
SUMMARY:Belektro
DESCRIPTION:https://www.google.com/maps/search/?api=1&query=Messe+Berlin%2C+Messedamm+22%2C+14055+Berlin
END:VEVENT
END:VCALENDAR