BEGIN:VCALENDAR
VERSION:2.0
PRODID:-//InStaff und Jobs GmbH
BEGIN:VEVENT
UID:33db4dc9b5b72070659c9cba2bb05024@instaff.jobs
DTSTAMP:20260424T121819Z
LOCATION:Landschaftspark Duisburg - Nord\, Emscherstraße 71\, 47137 Duisburg
DTSTART;TZID=Europe/Brussels:20180609T070000Z
DTEND;TZID=Europe/Brussels:20180610T160000Z
SUMMARY:Photo Adventure Messe 2018 in Duisburg
DESCRIPTION:https://www.google.com/maps/search/?api=1&query=Landschaftspark+Duisburg+-+Nord%2C+Emscherstraße+71%2C+47137+Duisburg
END:VEVENT
END:VCALENDAR