BEGIN:VCALENDAR
VERSION:2.0
PRODID:-//InStaff und Jobs GmbH
BEGIN:VEVENT
UID:7d6f3a1fc915560360205fc5bd607507@instaff.jobs
DTSTAMP:20260419T224912Z
LOCATION:Messe Frankfurt\, Ludwig-Erhard-Anlage 1\, 60327 Frankfurt
DTSTART;TZID=Europe/Brussels:20181026T070000Z
DTEND;TZID=Europe/Brussels:20181028T160000Z
SUMMARY:Marathonmall
DESCRIPTION:https://www.google.com/maps/search/?api=1&query=Messe+Frankfurt%2C+Ludwig-Erhard-Anlage+1%2C+60327+Frankfurt
END:VEVENT
END:VCALENDAR