BEGIN:VCALENDAR
VERSION:2.0
PRODID:-//InStaff und Jobs GmbH
BEGIN:VEVENT
UID:69e695740426cb4fc30ce2a816e2f321@instaff.jobs
DTSTAMP:20260424T020755Z
LOCATION:Europa-Park\, Europa-Park-Straße 2\, 77977 Rust
DTSTART;TZID=Europe/Brussels:20180310T070000Z
DTEND;TZID=Europe/Brussels:20180316T160000Z
SUMMARY:Cloudfest
DESCRIPTION:https://www.google.com/maps/search/?api=1&query=Europa-Park%2C+Europa-Park-Straße+2%2C+77977+Rust
END:VEVENT
END:VCALENDAR