BEGIN:VCALENDAR
VERSION:2.0
PRODID:-//InStaff und Jobs GmbH
BEGIN:VEVENT
UID:015b17ed41fc425abeec113b45de2e83@instaff.jobs
DTSTAMP:20260425T195329Z
LOCATION:Congress Centrum Würzburg\, Kranenkai 34\, 97070 Würzburg
DTSTART;TZID=Europe/Brussels:20180208T070000Z
DTEND;TZID=Europe/Brussels:20180210T160000Z
SUMMARY:ANIM 2018 in Würzburg
DESCRIPTION:https://www.google.com/maps/search/?api=1&query=Congress+Centrum+Würzburg%2C+Kranenkai+34%2C+97070+Würzburg
END:VEVENT
END:VCALENDAR