BEGIN:VCALENDAR
VERSION:2.0
PRODID:-//InStaff und Jobs GmbH
BEGIN:VEVENT
UID:2eff96b6c5bf63e054db62769f10c559@instaff.jobs
DTSTAMP:20260424T015922Z
LOCATION:Europa-Park\, Europa-Park-Straße 2\, 77977 Rust
DTSTART;TZID=Europe/Brussels:20190323T070000Z
DTEND;TZID=Europe/Brussels:20190329T160000Z
SUMMARY:CloudFest
DESCRIPTION:https://www.google.com/maps/search/?api=1&query=Europa-Park%2C+Europa-Park-Straße+2%2C+77977+Rust
END:VEVENT
END:VCALENDAR