BEGIN:VCALENDAR
VERSION:2.0
PRODID:-//InStaff und Jobs GmbH
BEGIN:VEVENT
UID:17a87bd22c0cbad4109b5fedc9c8282e@instaff.jobs
DTSTAMP:20260419T123731Z
LOCATION:Messe Berlin\, Messedamm 22\, 14055 Berlin\, Deutschland
DTSTART;TZID=Europe/Brussels:20200526T070000Z
DTEND;TZID=Europe/Brussels:20200528T160000Z
SUMMARY:CWIEME 2020 [VERSCHOBEN]
DESCRIPTION:https://www.google.com/maps/search/?api=1&query=Messe+Berlin%2C+Messedamm+22%2C+14055+Berlin%2C+Deutschland
END:VEVENT
END:VCALENDAR