BEGIN:VCALENDAR
VERSION:2.0
PRODID:-//InStaff und Jobs GmbH
BEGIN:VEVENT
UID:1668a9214c7828cc9a208f63e63d4544@instaff.jobs
DTSTAMP:20260425T135529Z
LOCATION:Velodrom\, Paul-Heyse-Straße 26\, 10407 Berlin
DTSTART;TZID=Europe/Brussels:20200123T070000Z
DTEND;TZID=Europe/Brussels:20200128T160000Z
SUMMARY:Six Day Berlin 2020
DESCRIPTION:https://www.google.com/maps/search/?api=1&query=Velodrom%2C+Paul-Heyse-Straße+26%2C+10407+Berlin
END:VEVENT
END:VCALENDAR