BEGIN:VCALENDAR
VERSION:2.0
PRODID:-//InStaff und Jobs GmbH
BEGIN:VEVENT
UID:5a0f2f9aedb87299604342cf093fdb61@instaff.jobs
DTSTAMP:20260424T015447Z
LOCATION:Europa-Park\, Europa-Park-Straße 2\, 77977 Rust
DTSTART;TZID=Europe/Brussels:20210320T070000Z
DTEND;TZID=Europe/Brussels:20210325T160000Z
SUMMARY:CloudFest 2021 [DIGITAL]
DESCRIPTION:https://www.google.com/maps/search/?api=1&query=Europa-Park%2C+Europa-Park-Straße+2%2C+77977+Rust
END:VEVENT
END:VCALENDAR