BEGIN:VCALENDAR
VERSION:2.0
PRODID:-//InStaff und Jobs GmbH
BEGIN:VEVENT
UID:2472a5b0004dcb5c7ead2c3b906e378d@instaff.jobs
DTSTAMP:20260424T160208Z
LOCATION:Berlin ExpoCenter City\, Messedamm 22\, 14055 Berlin
DTSTART;TZID=Europe/Brussels:20220405T070000Z
DTEND;TZID=Europe/Brussels:20220407T160000Z
SUMMARY:FRUIT LOGISTICA 2022
DESCRIPTION:https://www.google.com/maps/search/?api=1&query=Berlin+ExpoCenter+City%2C+Messedamm+22%2C+14055+Berlin
END:VEVENT
END:VCALENDAR