BEGIN:VCALENDAR
VERSION:2.0
PRODID:-//InStaff und Jobs GmbH
BEGIN:VEVENT
UID:1f001a019cd6af3dc6a31a8fddf94ca8@instaff.jobs
DTSTAMP:20260424T160209Z
LOCATION:Maritim proArte Hotel Berlin\, Friedrichstraße 151\, 10117 Berlin
DTSTART;TZID=Europe/Brussels:20220530T070000Z
DTEND;TZID=Europe/Brussels:20220603T160000Z
SUMMARY:webinale 2022
DESCRIPTION:https://www.google.com/maps/search/?api=1&query=Maritim+proArte+Hotel+Berlin%2C+Friedrichstraße+151%2C+10117+Berlin
END:VEVENT
END:VCALENDAR