BEGIN:VCALENDAR
VERSION:2.0
PRODID:-//InStaff und Jobs GmbH
BEGIN:VEVENT
UID:30a5d6a79841677959845f23e859e66e@instaff.jobs
DTSTAMP:20260426T031212Z
LOCATION:Rudolf-Harbig-Stadion\, Lennéstraße 12\, 01069 Dresden
DTSTART;TZID=Europe/Brussels:20220915T070000Z
DTEND;TZID=Europe/Brussels:20220915T160000Z
SUMMARY:Jobmesse Dresden 2022
DESCRIPTION:https://www.google.com/maps/search/?api=1&query=Rudolf-Harbig-Stadion%2C+Lennéstraße+12%2C+01069+Dresden
END:VEVENT
END:VCALENDAR