BEGIN:VCALENDAR
VERSION:2.0
PRODID:-//InStaff und Jobs GmbH
BEGIN:VEVENT
UID:960db0ac9fbdaef5fb282ddb3549b1c1@instaff.jobs
DTSTAMP:20260424T160419Z
LOCATION:Cinemaxx Hamburg\, Dammtordamm 1\, 20354 Hamburg
DTSTART;TZID=Europe/Brussels:20220426T070000Z
DTEND;TZID=Europe/Brussels:20220427T160000Z
SUMMARY:d3con 2022
DESCRIPTION:https://www.google.com/maps/search/?api=1&query=Cinemaxx+Hamburg%2C+Dammtordamm+1%2C+20354+Hamburg
END:VEVENT
END:VCALENDAR