BEGIN:VCALENDAR
VERSION:2.0
PRODID:-//InStaff und Jobs GmbH
BEGIN:VEVENT
UID:f637399f500187532461b44526e2bf63@instaff.jobs
DTSTAMP:20260424T160611Z
LOCATION:Congress Center Hamburg\, Congress Platz 1\, 20355 Hamburg
DTSTART;TZID=Europe/Brussels:20220921T070000Z
DTEND;TZID=Europe/Brussels:20220924T160000Z
SUMMARY:DGU Kongress 2022
DESCRIPTION:https://www.google.com/maps/search/?api=1&query=Congress+Center+Hamburg%2C+Congress+Platz+1%2C+20355+Hamburg
END:VEVENT
END:VCALENDAR