BEGIN:VCALENDAR
VERSION:2.0
PRODID:-//InStaff und Jobs GmbH
BEGIN:VEVENT
UID:3ade54d6f0f589c03a872d21b205f2c3@instaff.jobs
DTSTAMP:20260424T160344Z
LOCATION:Messe Köln\, Messeplatz 1\, 50679 Köln
DTSTART;TZID=Europe/Brussels:20220510T070000Z
DTEND;TZID=Europe/Brussels:20220512T160000Z
SUMMARY:ANGA COM 2022
DESCRIPTION:https://www.google.com/maps/search/?api=1&query=Messe+Köln%2C+Messeplatz+1%2C+50679+Köln
END:VEVENT
END:VCALENDAR