BEGIN:VCALENDAR
VERSION:2.0
PRODID:-//InStaff und Jobs GmbH
BEGIN:VEVENT
UID:044d286b348145ee64726b714b8b1580@instaff.jobs
DTSTAMP:20260421T164600Z
LOCATION:Köln Messe\, Messeplatz 1\, 50679 Köln
DTSTART;TZID=Europe/Brussels:20220407T070000Z
DTEND;TZID=Europe/Brussels:20220410T160000Z
SUMMARY:FIBO 2022
DESCRIPTION:https://www.google.com/maps/search/?api=1&query=Köln+Messe%2C+Messeplatz+1%2C+50679+Köln
END:VEVENT
END:VCALENDAR