BEGIN:VCALENDAR
VERSION:2.0
PRODID:-//InStaff und Jobs GmbH
BEGIN:VEVENT
UID:bfbb0e05c99a0339ba53bf6e6c32d52e@instaff.jobs
DTSTAMP:20260424T160519Z
LOCATION:Koelnmesse GmbH\, Messeplatz 1\, 50679 Köln
DTSTART;TZID=Europe/Brussels:20220117T070000Z
DTEND;TZID=Europe/Brussels:20220123T160000Z
SUMMARY:imm cologne 2022 [ABGESAGT]
DESCRIPTION:https://www.google.com/maps/search/?api=1&query=Koelnmesse+GmbH%2C+Messeplatz+1%2C+50679+Köln
END:VEVENT
END:VCALENDAR