BEGIN:VCALENDAR
VERSION:2.0
PRODID:-//InStaff und Jobs GmbH
BEGIN:VEVENT
UID:6fd9d704e5d0e685e7f4519fdf0d06ad@instaff.jobs
DTSTAMP:20260424T160309Z
LOCATION:Messe Köln\, Messeplatz 1\, 50679 Köln
DTSTART;TZID=Europe/Brussels:20221004T070000Z
DTEND;TZID=Europe/Brussels:20221009T160000Z
SUMMARY:INTERMOT 2022
DESCRIPTION:https://www.google.com/maps/search/?api=1&query=Messe+Köln%2C+Messeplatz+1%2C+50679+Köln
END:VEVENT
END:VCALENDAR