BEGIN:VCALENDAR
VERSION:2.0
PRODID:-//InStaff und Jobs GmbH
BEGIN:VEVENT
UID:f6a017ed5c833eea3bb94a7317b37f8f@instaff.jobs
DTSTAMP:20260424T160540Z
LOCATION:Messe Köln\, Messeplatz 1\, 50679 Köln
DTSTART;TZID=Europe/Brussels:20220306T070000Z
DTEND;TZID=Europe/Brussels:20220309T160000Z
SUMMARY:Internationale Eisenwarenmesse 2022 [VERSCHOBEN]
DESCRIPTION:https://www.google.com/maps/search/?api=1&query=Messe+Köln%2C+Messeplatz+1%2C+50679+Köln
END:VEVENT
END:VCALENDAR