BEGIN:VCALENDAR
VERSION:2.0
PRODID:-//InStaff und Jobs GmbH
BEGIN:VEVENT
UID:20fbcd2c928fe851f8f0773facde6918@instaff.jobs
DTSTAMP:20260424T160459Z
LOCATION:Messe Köln\, Messeplatz 1\, 50679 Köln
DTSTART;TZID=Europe/Brussels:20220925T070000Z
DTEND;TZID=Europe/Brussels:20220928T160000Z
SUMMARY:Internationale Eisenwarenmesse 2022
DESCRIPTION:https://www.google.com/maps/search/?api=1&query=Messe+Köln%2C+Messeplatz+1%2C+50679+Köln
END:VEVENT
END:VCALENDAR