BEGIN:VCALENDAR
VERSION:2.0
PRODID:-//InStaff und Jobs GmbH
BEGIN:VEVENT
UID:8f9d009d3c6fda6a1ec9012f905b23bf@instaff.jobs
DTSTAMP:20260424T160611Z
LOCATION:Köln Messe\, Messeplatz 1\, 50679 Köln
DTSTART;TZID=Europe/Brussels:20220518T070000Z
DTEND;TZID=Europe/Brussels:20220521T160000Z
SUMMARY:photokina 2022 [ABGESAGT]
DESCRIPTION:https://www.google.com/maps/search/?api=1&query=Köln+Messe%2C+Messeplatz+1%2C+50679+Köln
END:VEVENT
END:VCALENDAR