BEGIN:VCALENDAR
VERSION:2.0
PRODID:-//InStaff und Jobs GmbH
BEGIN:VEVENT
UID:d44114635c0514fee963f7655d5f3000@instaff.jobs
DTSTAMP:20260424T160208Z
LOCATION:Messe Leipzig\, Messe-Allee\, 04356 Leipzig
DTSTART;TZID=Europe/Brussels:20220421T070000Z
DTEND;TZID=Europe/Brussels:20220424T160000Z
SUMMARY:agra 2022
DESCRIPTION:https://www.google.com/maps/search/?api=1&query=Messe+Leipzig%2C+Messe-Allee%2C+04356+Leipzig
END:VEVENT
END:VCALENDAR