BEGIN:VCALENDAR
VERSION:2.0
PRODID:-//InStaff und Jobs GmbH
BEGIN:VEVENT
UID:52e3bd3eae4ee2b63cd2781bd7f76d45@instaff.jobs
DTSTAMP:20260424T160540Z
LOCATION:Leipziger Messe\, Messe-Allee 1\, 04356 Leipzig
DTSTART;TZID=Europe/Brussels:20220930T070000Z
DTEND;TZID=Europe/Brussels:20221002T160000Z
SUMMARY:modell-hobby-spiel 2022
DESCRIPTION:https://www.google.com/maps/search/?api=1&query=Leipziger+Messe%2C+Messe-Allee+1%2C+04356+Leipzig
END:VEVENT
END:VCALENDAR