BEGIN:VCALENDAR
VERSION:2.0
PRODID:-//InStaff und Jobs GmbH
BEGIN:VEVENT
UID:26b92898e17aeeb4b08d9a42d0098ea4@instaff.jobs
DTSTAMP:20260425T214427Z
LOCATION:Ostseestadion\, Kopernikusstraße 17\, 18057 Rostock
DTSTART;TZID=Europe/Brussels:20220901T070000Z
DTEND;TZID=Europe/Brussels:20220901T160000Z
SUMMARY:Jobmesse Rostock 2022
DESCRIPTION:https://www.google.com/maps/search/?api=1&query=Ostseestadion%2C+Kopernikusstraße+17%2C+18057+Rostock
END:VEVENT
END:VCALENDAR