BEGIN:VCALENDAR
VERSION:2.0
PRODID:-//InStaff und Jobs GmbH
BEGIN:VEVENT
UID:0ccbf0220570604a0f5c07ba25b1a919@instaff.jobs
DTSTAMP:20260424T160208Z
LOCATION:Messe Stuttgart\, Flufhafenstraße\, 70629 Stuttgart
DTSTART;TZID=Europe/Brussels:20221126T070000Z
DTEND;TZID=Europe/Brussels:20221127T160000Z
SUMMARY:Comic Con Germany 2022
DESCRIPTION:https://www.google.com/maps/search/?api=1&query=Messe+Stuttgart%2C+Flufhafenstraße%2C+70629+Stuttgart
END:VEVENT
END:VCALENDAR