BEGIN:VCALENDAR
VERSION:2.0
PRODID:-//InStaff und Jobs GmbH
BEGIN:VEVENT
UID:694e1b1ec5c6e954b9dbec773a2265f3@instaff.jobs
DTSTAMP:20260424T160540Z
LOCATION:Landesmesse Stuttgart GmbH\, Messepiazza 1\, 70629 Stuttgart
DTSTART;TZID=Europe/Brussels:20221108T070000Z
DTEND;TZID=Europe/Brussels:20221110T160000Z
SUMMARY:Foam Expo Europe 2022
DESCRIPTION:https://www.google.com/maps/search/?api=1&query=Landesmesse+Stuttgart+GmbH%2C+Messepiazza+1%2C+70629+Stuttgart
END:VEVENT
END:VCALENDAR