BEGIN:VCALENDAR
VERSION:2.0
PRODID:-//InStaff und Jobs GmbH
BEGIN:VEVENT
UID:5672cc739b958a3e94ad94e7551b3918@instaff.jobs
DTSTAMP:20260424T160459Z
LOCATION:Landesmesse Stuttgart\, Messepiazza 1\, 70629 Stuttgart
DTSTART;TZID=Europe/Brussels:20220308T070000Z
DTEND;TZID=Europe/Brussels:20220310T160000Z
SUMMARY:LogiMAT 2022 [VERSCHOBEN]
DESCRIPTION:https://www.google.com/maps/search/?api=1&query=Landesmesse+Stuttgart%2C+Messepiazza+1%2C+70629+Stuttgart
END:VEVENT
END:VCALENDAR