BEGIN:VCALENDAR
VERSION:2.0
PRODID:-//InStaff und Jobs GmbH
BEGIN:VEVENT
UID:00b1a01d8b4556b52096ed11473cbd4a@instaff.jobs
DTSTAMP:20260424T160144Z
LOCATION:Messe Stuttgart\, Messepiazza 1\, 70629 Stuttgart
DTSTART;TZID=Europe/Brussels:20220421T070000Z
DTEND;TZID=Europe/Brussels:20220424T160000Z
SUMMARY:RETRO CLASSICS 2022
DESCRIPTION:https://www.google.com/maps/search/?api=1&query=Messe+Stuttgart%2C+Messepiazza+1%2C+70629+Stuttgart
END:VEVENT
END:VCALENDAR