BEGIN:VCALENDAR
VERSION:2.0
PRODID:-//InStaff und Jobs GmbH
BEGIN:VEVENT
UID:ed9112083185e39a3bb1ea4da255568a@instaff.jobs
DTSTAMP:20260424T160541Z
LOCATION:Messe Stuttgart\, Messepiazza 1\, 70629 Stuttgart
DTSTART;TZID=Europe/Brussels:20220210T070000Z
DTEND;TZID=Europe/Brussels:20220212T160000Z
SUMMARY:TV TecStyle Visions 2022 [VERSCHOBEN]
DESCRIPTION:https://www.google.com/maps/search/?api=1&query=Messe+Stuttgart%2C+Messepiazza+1%2C+70629+Stuttgart
END:VEVENT
END:VCALENDAR