BEGIN:VCALENDAR
VERSION:2.0
PRODID:-//InStaff und Jobs GmbH
BEGIN:VEVENT
UID:d094ca1163778aba49d48bf1adadea72@instaff.jobs
DTSTAMP:20260425T195449Z
LOCATION:Congress Centrum Würzburg\, Pleichertorstraße\, 97070 Würzburg
DTSTART;TZID=Europe/Brussels:20220310T070000Z
DTEND;TZID=Europe/Brussels:20220312T160000Z
SUMMARY:66 Jahrestagung DGKN 2022
DESCRIPTION:https://www.google.com/maps/search/?api=1&query=Congress+Centrum+Würzburg%2C+Pleichertorstraße%2C+97070+Würzburg
END:VEVENT
END:VCALENDAR