BEGIN:VCALENDAR
VERSION:2.0
PRODID:-//InStaff und Jobs GmbH
BEGIN:VEVENT
UID:dc4d48792af389467934749f14ee9f07@instaff.jobs
DTSTAMP:20260422T164934Z
LOCATION:Messe Düsseldorf\, Stockumer Kirchstraße 61\, 40474 Düsseldorf
DTSTART;TZID=Europe/Brussels:20230110T070000Z
DTEND;TZID=Europe/Brussels:20230112T160000Z
SUMMARY:PSI 2023
DESCRIPTION:https://www.google.com/maps/search/?api=1&query=Messe+Düsseldorf%2C+Stockumer+Kirchstraße+61%2C+40474+Düsseldorf
END:VEVENT
BEGIN:VEVENT
UID:78226d6e80664104594daee534105d6e@instaff.jobs
DTSTAMP:20260422T164934Z
LOCATION:Messe Düsseldorf\, Stockumer Kirchstraße 61\, 40474 Düsseldorf
DTSTART;TZID=Europe/Brussels:20230121T070000Z
DTEND;TZID=Europe/Brussels:20230129T160000Z
SUMMARY:boot Düsseldorf 2023
DESCRIPTION:https://www.google.com/maps/search/?api=1&query=Messe+Düsseldorf%2C+Stockumer+Kirchstraße+61%2C+40474+Düsseldorf
END:VEVENT
BEGIN:VEVENT
UID:6613d62639a29312af61a808ab795520@instaff.jobs
DTSTAMP:20260422T164934Z
LOCATION:B1\, Bennigsen Platz 1\, 40474 Düsseldorf  
DTSTART;TZID=Europe/Brussels:20230127T070000Z
DTEND;TZID=Europe/Brussels:20230130T160000Z
SUMMARY:Supreme Women&Men Düsseldorf 2023
DESCRIPTION:https://www.google.com/maps/search/?api=1&query=B1%2C+Bennigsen+Platz+1%2C+40474+Düsseldorf++
END:VEVENT
BEGIN:VEVENT
UID:f68f203b6a851f558fd45a75c1c80605@instaff.jobs
DTSTAMP:20260422T164934Z
LOCATION:AREAL Böhler\, Hansaallee 321\, 40549 Düsseldorf 
DTSTART;TZID=Europe/Brussels:20230128T070000Z
DTEND;TZID=Europe/Brussels:20230130T160000Z
SUMMARY:Gallery FASHION 2023
DESCRIPTION:https://www.google.com/maps/search/?api=1&query=AREAL+Böhler%2C+Hansaallee+321%2C+40549+Düsseldorf+
END:VEVENT
BEGIN:VEVENT
UID:9969f4291c1a8be9ccf0b42d1d4ffa38@instaff.jobs
DTSTAMP:20260422T164934Z
LOCATION:AREAL Böhler\, Hansaallee 321\, 40549 Düsseldorf 
DTSTART;TZID=Europe/Brussels:20230226T070000Z
DTEND;TZID=Europe/Brussels:20230228T160000Z
SUMMARY:SHOES DÜSSELDORF 2023
DESCRIPTION:https://www.google.com/maps/search/?api=1&query=AREAL+Böhler%2C+Hansaallee+321%2C+40549+Düsseldorf+
END:VEVENT
BEGIN:VEVENT
UID:d8c4b503b8d04a072bde0b35ec344882@instaff.jobs
DTSTAMP:20260422T164934Z
LOCATION:Messe Düsseldorf\, Stockumer Kirchstraße 61\, 40474 Düsseldorf
DTSTART;TZID=Europe/Brussels:20230226T070000Z
DTEND;TZID=Europe/Brussels:20230302T160000Z
SUMMARY:EuroCIS 2023
DESCRIPTION:https://www.google.com/maps/search/?api=1&query=Messe+Düsseldorf%2C+Stockumer+Kirchstraße+61%2C+40474+Düsseldorf
END:VEVENT
BEGIN:VEVENT
UID:56fa7deee3b0168074753a2203ad243f@instaff.jobs
DTSTAMP:20260422T164934Z
LOCATION:Messe Düsseldorf\, Stockumer Kirchstraße 61\, 40474 Düsseldorf
DTSTART;TZID=Europe/Brussels:20230226T070000Z
DTEND;TZID=Europe/Brussels:20230302T160000Z
SUMMARY:Euroshop 2023
DESCRIPTION:https://www.google.com/maps/search/?api=1&query=Messe+Düsseldorf%2C+Stockumer+Kirchstraße+61%2C+40474+Düsseldorf
END:VEVENT
BEGIN:VEVENT
UID:3ac0cf65e92a00ce33f02b6babcb1f9d@instaff.jobs
DTSTAMP:20260422T164934Z
LOCATION:Areal Böhler \(Kaltstahlhallen\)\, Hansaallee 321\, 40549 Düsseldorf
DTSTART;TZID=Europe/Brussels:20230318T070000Z
DTEND;TZID=Europe/Brussels:20230319T160000Z
SUMMARY:VeggieWorld Düsseldorf 2023
DESCRIPTION:https://www.google.com/maps/search/?api=1&query=Areal+Böhler+(Kaltstahlhallen)%2C+Hansaallee+321%2C+40549+Düsseldorf
END:VEVENT
BEGIN:VEVENT
UID:01e339b946b55a5d5f28bc72fddfb167@instaff.jobs
DTSTAMP:20260422T164934Z
LOCATION:Messe Düsseldorf\, Stockumer Kirchstraße 61\, 40474 Düsseldorf
DTSTART;TZID=Europe/Brussels:20230319T070000Z
DTEND;TZID=Europe/Brussels:20230321T160000Z
SUMMARY:ProWein 2023
DESCRIPTION:https://www.google.com/maps/search/?api=1&query=Messe+Düsseldorf%2C+Stockumer+Kirchstraße+61%2C+40474+Düsseldorf
END:VEVENT
BEGIN:VEVENT
UID:543c09e4361cbffa753bdc185e6ea6d9@instaff.jobs
DTSTAMP:20260422T164934Z
LOCATION:Messe Düsseldorf\, Stockumer Höfe\, 40474 Düsseldorf
DTSTART;TZID=Europe/Brussels:20230329T070000Z
DTEND;TZID=Europe/Brussels:20230330T160000Z
SUMMARY:Flotte! Der Branchentreff 2023
DESCRIPTION:https://www.google.com/maps/search/?api=1&query=Messe+Düsseldorf%2C+Stockumer+Höfe%2C+40474+Düsseldorf
END:VEVENT
BEGIN:VEVENT
UID:bbe90f69ececf2e41f05e4d8581f396a@instaff.jobs
DTSTAMP:20260422T164934Z
LOCATION:Messe Düsseldorf\, Stockumer Höfe Kirchstraße 61\, 40474 Düsseldorf
DTSTART;TZID=Europe/Brussels:20230331T070000Z
DTEND;TZID=Europe/Brussels:20230402T160000Z
SUMMARY:BEAUTY DÜSSELDORF 2023
DESCRIPTION:https://www.google.com/maps/search/?api=1&query=Messe+Düsseldorf%2C+Stockumer+Höfe+Kirchstraße+61%2C+40474+Düsseldorf
END:VEVENT
BEGIN:VEVENT
UID:4cda17ad4d43895c845be5ef5b5daa32@instaff.jobs
DTSTAMP:20260422T164934Z
LOCATION:Messe Düsseldorf\, Stockumer Kirchstraße 61\, 40474 Düsseldorf
DTSTART;TZID=Europe/Brussels:20230401T070000Z
DTEND;TZID=Europe/Brussels:20230402T160000Z
SUMMARY:TOP HAIR - DIE MESSE 2023
DESCRIPTION:https://www.google.com/maps/search/?api=1&query=Messe+Düsseldorf%2C+Stockumer+Kirchstraße+61%2C+40474+Düsseldorf
END:VEVENT
BEGIN:VEVENT
UID:6122565620903f434b7ad0bb720e571d@instaff.jobs
DTSTAMP:20260422T164934Z
LOCATION:Radisson Blu Conference Hotel\, Karl-Arnold-Platz 5\, D-40474 Dusseldorf\, Germany
DTSTART;TZID=Europe/Brussels:20230425T070000Z
DTEND;TZID=Europe/Brussels:20230426T160000Z
SUMMARY:GlassPrint 2023
DESCRIPTION:https://www.google.com/maps/search/?api=1&query=Radisson+Blu+Conference+Hotel%2C+Karl-Arnold-Platz+5%2C+D-40474+Dusseldorf%2C+Germany
END:VEVENT
BEGIN:VEVENT
UID:561dff07d831a71b082b593143549700@instaff.jobs
DTSTAMP:20260422T164934Z
LOCATION:Messe Düsseldorf\, Am Staad \(Stockumer Höfe\)\, 40474 Düsseldorf
DTSTART;TZID=Europe/Brussels:20230504T070000Z
DTEND;TZID=Europe/Brussels:20230510T160000Z
SUMMARY:components 2023
DESCRIPTION:https://www.google.com/maps/search/?api=1&query=Messe+Düsseldorf%2C+Am+Staad+(Stockumer+Höfe)%2C+40474+Düsseldorf
END:VEVENT
BEGIN:VEVENT
UID:d317967aa06c2d06ebfb53af43661595@instaff.jobs
DTSTAMP:20260422T164934Z
LOCATION:Messe Düsseldorf\, Stockumer Kirchstraße 61\, 40474 Düsseldorf
DTSTART;TZID=Europe/Brussels:20230504T070000Z
DTEND;TZID=Europe/Brussels:20230510T160000Z
SUMMARY:Interpack 2023
DESCRIPTION:https://www.google.com/maps/search/?api=1&query=Messe+Düsseldorf%2C+Stockumer+Kirchstraße+61%2C+40474+Düsseldorf
END:VEVENT
BEGIN:VEVENT
UID:21ab1510be654d6250ad69b9bcd34957@instaff.jobs
DTSTAMP:20260422T164934Z
LOCATION:Messe Düsseldorf\, Stockumer Kirchstraße 61\, 40474 Düsseldorf
DTSTART;TZID=Europe/Brussels:20230612T070000Z
DTEND;TZID=Europe/Brussels:20230616T160000Z
SUMMARY:GIFA Internationale Giesserei-Fachmesse 2023
DESCRIPTION:https://www.google.com/maps/search/?api=1&query=Messe+Düsseldorf%2C+Stockumer+Kirchstraße+61%2C+40474+Düsseldorf
END:VEVENT
BEGIN:VEVENT
UID:bfbd43d98fc1e333999988e669a6bcc2@instaff.jobs
DTSTAMP:20260422T164934Z
LOCATION:Messe Düsseldorf\, Stockumer Kirchstraße 61\, 40474 Düsseldorf
DTSTART;TZID=Europe/Brussels:20230612T070000Z
DTEND;TZID=Europe/Brussels:20230616T160000Z
SUMMARY:METEC 2023
DESCRIPTION:https://www.google.com/maps/search/?api=1&query=Messe+Düsseldorf%2C+Stockumer+Kirchstraße+61%2C+40474+Düsseldorf
END:VEVENT
BEGIN:VEVENT
UID:046611855b58595110703d381acf261b@instaff.jobs
DTSTAMP:20260422T164934Z
LOCATION:Messe Düsseldorf\, Stockumer Kirchstraße 61\, 40474 Düsseldorf
DTSTART;TZID=Europe/Brussels:20230612T070000Z
DTEND;TZID=Europe/Brussels:20230616T160000Z
SUMMARY:Thermprocess 2023
DESCRIPTION:https://www.google.com/maps/search/?api=1&query=Messe+Düsseldorf%2C+Stockumer+Kirchstraße+61%2C+40474+Düsseldorf
END:VEVENT
BEGIN:VEVENT
UID:6539dffeb5ad3ce98d8eee399a8e1cd5@instaff.jobs
DTSTAMP:20260422T164934Z
LOCATION:Düsseldorf\, Königsallee\, 40212 Düsseldorf
DTSTART;TZID=Europe/Brussels:20230825T070000Z
DTEND;TZID=Europe/Brussels:20230827T160000Z
SUMMARY:Gourmet Festival 2023
DESCRIPTION:https://www.google.com/maps/search/?api=1&query=Düsseldorf%2C+Königsallee%2C+40212+Düsseldorf
END:VEVENT
BEGIN:VEVENT
UID:b7b77d154123ad1082dcd76904dec4fa@instaff.jobs
DTSTAMP:20260422T164934Z
LOCATION:Messe Düsseldorf\, Stockumer Kirchstraße 61\, 40474 Düsseldorf
DTSTART;TZID=Europe/Brussels:20230826T070000Z
DTEND;TZID=Europe/Brussels:20230903T160000Z
SUMMARY:Caravan Salon 2023
DESCRIPTION:https://www.google.com/maps/search/?api=1&query=Messe+Düsseldorf%2C+Stockumer+Kirchstraße+61%2C+40474+Düsseldorf
END:VEVENT
BEGIN:VEVENT
UID:3d0ca71978fcb8a1682dff73b6418bf5@instaff.jobs
DTSTAMP:20260422T164934Z
LOCATION:Messe Düsseldorf\, Stockumer Kirchstraße 61\, 40474 Düsseldorf
DTSTART;TZID=Europe/Brussels:20230913T070000Z
DTEND;TZID=Europe/Brussels:20230916T160000Z
SUMMARY:Rehacare International 2023
DESCRIPTION:https://www.google.com/maps/search/?api=1&query=Messe+Düsseldorf%2C+Stockumer+Kirchstraße+61%2C+40474+Düsseldorf
END:VEVENT
BEGIN:VEVENT
UID:09bae71d6a8e07cea2e7ac07820f96f5@instaff.jobs
DTSTAMP:20260422T164934Z
LOCATION:Mitsubishi Electric HALLE\, Siegburger Str\. 15\, 40591 Düsseldorf
DTSTART;TZID=Europe/Brussels:20230916T070000Z
DTEND;TZID=Europe/Brussels:20230916T160000Z
SUMMARY:Stuzubi Düsseldorf 2023
DESCRIPTION:https://www.google.com/maps/search/?api=1&query=Mitsubishi+Electric+HALLE%2C+Siegburger+Str.+15%2C+40591+Düsseldorf
END:VEVENT
BEGIN:VEVENT
UID:94a54554324c8ece09d79c81d99a4dc0@instaff.jobs
DTSTAMP:20260422T164934Z
LOCATION:Messe Düsseldorf\, Stockumer Kirchstraße 61\, 40474 Düsseldorf
DTSTART;TZID=Europe/Brussels:20230927T070000Z
DTEND;TZID=Europe/Brussels:20230930T160000Z
SUMMARY:expopharm 2023
DESCRIPTION:https://www.google.com/maps/search/?api=1&query=Messe+Düsseldorf%2C+Stockumer+Kirchstraße+61%2C+40474+Düsseldorf
END:VEVENT
BEGIN:VEVENT
UID:97e6db2f7f478fd0d63bda2466885508@instaff.jobs
DTSTAMP:20260422T164934Z
LOCATION:Messe Düsseldorf\, Stockumer Kirchstraße 61\, 40474 Düsseldorf
DTSTART;TZID=Europe/Brussels:20231024T070000Z
DTEND;TZID=Europe/Brussels:20231027T160000Z
SUMMARY:A+A 2023
DESCRIPTION:https://www.google.com/maps/search/?api=1&query=Messe+Düsseldorf%2C+Stockumer+Kirchstraße+61%2C+40474+Düsseldorf
END:VEVENT
BEGIN:VEVENT
UID:826a68df4b64a264a42649cd30cf5cda@instaff.jobs
DTSTAMP:20260422T164934Z
LOCATION:Geschwister-Scholl-Gymnasium\, Redinghovenstraße 41\, 40225 Düsseldorf
DTSTART;TZID=Europe/Brussels:20231104T070000Z
DTEND;TZID=Europe/Brussels:20231104T160000Z
SUMMARY:AUF IN DIE WELT Düsseldorf 2023
DESCRIPTION:https://www.google.com/maps/search/?api=1&query=Geschwister-Scholl-Gymnasium%2C+Redinghovenstraße+41%2C+40225+Düsseldorf
END:VEVENT
BEGIN:VEVENT
UID:05d083c883128da7f51ea463ee69ae98@instaff.jobs
DTSTAMP:20260422T164934Z
LOCATION:CCD Congress Center Düsseldorf\, Stockumer Kirchstraße 61\, 40474 Düsseldorf
DTSTART;TZID=Europe/Brussels:20231108T070000Z
DTEND;TZID=Europe/Brussels:20231111T160000Z
SUMMARY:Tonmeistertagung 2023
DESCRIPTION:https://www.google.com/maps/search/?api=1&query=CCD+Congress+Center+Düsseldorf%2C+Stockumer+Kirchstraße+61%2C+40474+Düsseldorf
END:VEVENT
BEGIN:VEVENT
UID:f7e221f44318109807a5a73aeeb689c0@instaff.jobs
DTSTAMP:20260422T164934Z
LOCATION:Messe Düsseldorf\, Am Staad 1\, 40474 Düsseldorf
DTSTART;TZID=Europe/Brussels:20231113T070000Z
DTEND;TZID=Europe/Brussels:20231116T160000Z
SUMMARY:MEDICA 2023
DESCRIPTION:https://www.google.com/maps/search/?api=1&query=Messe+Düsseldorf%2C+Am+Staad+1%2C+40474+Düsseldorf
END:VEVENT
END:VCALENDAR