BEGIN:VCALENDAR
VERSION:2.0
PRODID:-//InStaff und Jobs GmbH
BEGIN:VEVENT
UID:2e8f27ba972af4635ee032f6d0ee646e@instaff.jobs
DTSTAMP:20260422T201415Z
LOCATION:Leipziger Messe\, Messe-Allee 1\, 04356 Leipzig
DTSTART;TZID=Europe/Brussels:20231105T070000Z
DTEND;TZID=Europe/Brussels:20231107T160000Z
SUMMARY:ISS GUT! Leipzig 2023
DESCRIPTION:https://www.google.com/maps/search/?api=1&query=Leipziger+Messe%2C+Messe-Allee+1%2C+04356+Leipzig
END:VEVENT
END:VCALENDAR