BEGIN:VCALENDAR
VERSION:2.0
PRODID:-//InStaff und Jobs GmbH
BEGIN:VEVENT
UID:b0458f25400d3c4e58605c1252b7e5bd@instaff.jobs
DTSTAMP:20260422T183010Z
LOCATION:Congress Center der Leipziger Messe\, Messe-Allee 1\, 04356 Leipzig
DTSTART;TZID=Europe/Brussels:20230128T070000Z
DTEND;TZID=Europe/Brussels:20230128T160000Z
SUMMARY:Jobmesse Leipzig Frühjahr 2023
DESCRIPTION:https://www.google.com/maps/search/?api=1&query=Congress+Center+der+Leipziger+Messe%2C+Messe-Allee+1%2C+04356+Leipzig
END:VEVENT
BEGIN:VEVENT
UID:c14a1e27f3f21ecce7f14b0c109aefb6@instaff.jobs
DTSTAMP:20260422T183010Z
LOCATION:Leipziger Messe\, Messe-Allee 1\, 04356 Leipzig
DTSTART;TZID=Europe/Brussels:20230209T070000Z
DTEND;TZID=Europe/Brussels:20230211T160000Z
SUMMARY:Motorrad Messe Leipzig 2023
DESCRIPTION:https://www.google.com/maps/search/?api=1&query=Leipziger+Messe%2C+Messe-Allee+1%2C+04356+Leipzig
END:VEVENT
BEGIN:VEVENT
UID:b6c08c0781065c6ef29f90e1dce54169@instaff.jobs
DTSTAMP:20260422T183010Z
LOCATION:KONGRESSHALLE am Zoo\, Pfaffendorfer Straße 31\, 04105 Leipzig
DTSTART;TZID=Europe/Brussels:20230216T070000Z
DTEND;TZID=Europe/Brussels:20230218T160000Z
SUMMARY:KAD Deutsche Kardiodiagnostik-Tage 2023
DESCRIPTION:https://www.google.com/maps/search/?api=1&query=KONGRESSHALLE+am+Zoo%2C+Pfaffendorfer+Straße+31%2C+04105+Leipzig
END:VEVENT
BEGIN:VEVENT
UID:76d65b1de3fab209f515581d782119cd@instaff.jobs
DTSTAMP:20260422T183010Z
LOCATION:Leipziger Messe\, Messe-Allee 1\, 04356 Leipzig
DTSTART;TZID=Europe/Brussels:20230307T070000Z
DTEND;TZID=Europe/Brussels:20230310T160000Z
SUMMARY:GrindTec Leipzig 2023
DESCRIPTION:https://www.google.com/maps/search/?api=1&query=Leipziger+Messe%2C+Messe-Allee+1%2C+04356+Leipzig
END:VEVENT
BEGIN:VEVENT
UID:32c662f21713a4f67451a4fd15e3107f@instaff.jobs
DTSTAMP:20260422T183010Z
LOCATION:Messe Leipzig\, Messe-Allee\, 04356 Leipzig
DTSTART;TZID=Europe/Brussels:20230307T070000Z
DTEND;TZID=Europe/Brussels:20230310T160000Z
SUMMARY:Intec 2023
DESCRIPTION:https://www.google.com/maps/search/?api=1&query=Messe+Leipzig%2C+Messe-Allee%2C+04356+Leipzig
END:VEVENT
BEGIN:VEVENT
UID:2ac7ac932c5e53520ed8d4287e1e94ea@instaff.jobs
DTSTAMP:20260422T183010Z
LOCATION:Leipziger Messe\, Messe-Allee 1\, 04356 Leipzig
DTSTART;TZID=Europe/Brussels:20230307T070000Z
DTEND;TZID=Europe/Brussels:20230310T160000Z
SUMMARY:Z - Zuliefermesse 2023
DESCRIPTION:https://www.google.com/maps/search/?api=1&query=Leipziger+Messe%2C+Messe-Allee+1%2C+04356+Leipzig
END:VEVENT
BEGIN:VEVENT
UID:791c5efa7652887907e62a73d0a0c669@instaff.jobs
DTSTAMP:20260422T183010Z
LOCATION:Messe Leipzig\, Messe-Allee 1\, 04356 Leipzig
DTSTART;TZID=Europe/Brussels:20230402T070000Z
DTEND;TZID=Europe/Brussels:20230402T160000Z
SUMMARY:BioOst 2023
DESCRIPTION:https://www.google.com/maps/search/?api=1&query=Messe+Leipzig%2C+Messe-Allee+1%2C+04356+Leipzig
END:VEVENT
BEGIN:VEVENT
UID:cdc6c70277ead543b8c37481db39fe13@instaff.jobs
DTSTAMP:20260422T183010Z
LOCATION:Leipziger Messe\, Messe-Allee 1\, 04356 Leipzig
DTSTART;TZID=Europe/Brussels:20230427T070000Z
DTEND;TZID=Europe/Brussels:20230430T160000Z
SUMMARY:Leipziger Buchmesse 2023
DESCRIPTION:https://www.google.com/maps/search/?api=1&query=Leipziger+Messe%2C+Messe-Allee+1%2C+04356+Leipzig
END:VEVENT
BEGIN:VEVENT
UID:7e295c000287391de8b9f91457c2fb30@instaff.jobs
DTSTAMP:20260422T183010Z
LOCATION:Messe Leipzig\, Messe-Allee\, 04356 Leipzig
DTSTART;TZID=Europe/Brussels:20230504T070000Z
DTEND;TZID=Europe/Brussels:20230506T160000Z
SUMMARY:therapie Leipzig 2023
DESCRIPTION:https://www.google.com/maps/search/?api=1&query=Messe+Leipzig%2C+Messe-Allee%2C+04356+Leipzig
END:VEVENT
BEGIN:VEVENT
UID:03c281d39697a8300d78bf18de93c79a@instaff.jobs
DTSTAMP:20260422T183010Z
LOCATION:Congress Center Leipzig\, Seehausener Allee 1\, 04356 Leipzig
DTSTART;TZID=Europe/Brussels:20230830T070000Z
DTEND;TZID=Europe/Brussels:20230902T160000Z
SUMMARY:Kongress der Deutschen Gesellschaft für Rheumatologie (DGRh) 2023
DESCRIPTION:https://www.google.com/maps/search/?api=1&query=Congress+Center+Leipzig%2C+Seehausener+Allee+1%2C+04356+Leipzig
END:VEVENT
BEGIN:VEVENT
UID:fb21e7e34372a4d34199a7979c1cebc8@instaff.jobs
DTSTAMP:20260422T183010Z
LOCATION:Congress Center der Leipziger Messe\, Messe-Allee 1\, 04356 Leipzig
DTSTART;TZID=Europe/Brussels:20230909T070000Z
DTEND;TZID=Europe/Brussels:20230909T160000Z
SUMMARY:Jobmesse Leipzig Herbst 2023
DESCRIPTION:https://www.google.com/maps/search/?api=1&query=Congress+Center+der+Leipziger+Messe%2C+Messe-Allee+1%2C+04356+Leipzig
END:VEVENT
BEGIN:VEVENT
UID:d8466a603b9c0ea6a5e572802f7897bd@instaff.jobs
DTSTAMP:20260422T183010Z
LOCATION:Congress Center Leipzig\, Seehausener Allee 1\, 04356 Leipzig
DTSTART;TZID=Europe/Brussels:20230912T070000Z
DTEND;TZID=Europe/Brussels:20230914T160000Z
SUMMARY:efa 2023
DESCRIPTION:https://www.google.com/maps/search/?api=1&query=Congress+Center+Leipzig%2C+Seehausener+Allee+1%2C+04356+Leipzig
END:VEVENT
BEGIN:VEVENT
UID:259d7b79cdf82ff2aeba5cd0a1867b85@instaff.jobs
DTSTAMP:20260422T183010Z
LOCATION:Gymnasium Humboldtschule\, Möbiusstraße 8\, 04317 Leipzig
DTSTART;TZID=Europe/Brussels:20230916T070000Z
DTEND;TZID=Europe/Brussels:20230916T160000Z
SUMMARY:AUF IN DIE WELT Leipzig 2023
DESCRIPTION:https://www.google.com/maps/search/?api=1&query=Gymnasium+Humboldtschule%2C+Möbiusstraße+8%2C+04317+Leipzig
END:VEVENT
BEGIN:VEVENT
UID:e1e1105e0c183f26b092e907224a47a8@instaff.jobs
DTSTAMP:20260422T183010Z
LOCATION:Congress Center Leipzig\, Seehausener Allee 1\, 04356 Leipzig
DTSTART;TZID=Europe/Brussels:20230920T070000Z
DTEND;TZID=Europe/Brussels:20230923T160000Z
SUMMARY:DGU Kongress 2023
DESCRIPTION:https://www.google.com/maps/search/?api=1&query=Congress+Center+Leipzig%2C+Seehausener+Allee+1%2C+04356+Leipzig
END:VEVENT
BEGIN:VEVENT
UID:511d73915d3d229a1f4c9fb0a2006645@instaff.jobs
DTSTAMP:20260422T183010Z
LOCATION:Leipziger Messe\, Messe-Allee 1\, 04356 Leipzig
DTSTART;TZID=Europe/Brussels:20230922T070000Z
DTEND;TZID=Europe/Brussels:20230923T160000Z
SUMMARY:FACHDENTAL LEIPZIG / id infotage dental 2023
DESCRIPTION:https://www.google.com/maps/search/?api=1&query=Leipziger+Messe%2C+Messe-Allee+1%2C+04356+Leipzig
END:VEVENT
BEGIN:VEVENT
UID:09e3bb433f97590e0f99a8ec982cf3d2@instaff.jobs
DTSTAMP:20260422T183010Z
LOCATION:Leipziger Messe\, Messe-Allee 1\, 04356 Leipzig
DTSTART;TZID=Europe/Brussels:20230929T070000Z
DTEND;TZID=Europe/Brussels:20231001T160000Z
SUMMARY:modell-hobby-spiel 2023
DESCRIPTION:https://www.google.com/maps/search/?api=1&query=Leipziger+Messe%2C+Messe-Allee+1%2C+04356+Leipzig
END:VEVENT
BEGIN:VEVENT
UID:2321cfafbb8a27f2ee8aa321c213b9ae@instaff.jobs
DTSTAMP:20260422T183010Z
LOCATION:Kongresshalle am Zoo\, Pfaffendorfer Str\. 31\, 04105 Leipzig
DTSTART;TZID=Europe/Brussels:20231026T070000Z
DTEND;TZID=Europe/Brussels:20231026T160000Z
SUMMARY:TAXarena Leipzig 2023
DESCRIPTION:https://www.google.com/maps/search/?api=1&query=Kongresshalle+am+Zoo%2C+Pfaffendorfer+Str.+31%2C+04105+Leipzig
END:VEVENT
BEGIN:VEVENT
UID:88026c1e2866c2c4a653be19e4280ca4@instaff.jobs
DTSTAMP:20260422T183010Z
LOCATION:agra Messepark Leipzig\, Bornaische Str\. 210\, 04279 Leipzig
DTSTART;TZID=Europe/Brussels:20231104T070000Z
DTEND;TZID=Europe/Brussels:20231105T160000Z
SUMMARY:Kreativmarkt Leipzig 2023
DESCRIPTION:https://www.google.com/maps/search/?api=1&query=agra+Messepark+Leipzig%2C+Bornaische+Str.+210%2C+04279+Leipzig
END:VEVENT
BEGIN:VEVENT
UID:66ef73ac2da698b0b88be18f278f79b9@instaff.jobs
DTSTAMP:20260422T183010Z
LOCATION:Leipziger Messe\, Messe-Allee 1\, 04356 Leipzig
DTSTART;TZID=Europe/Brussels:20231105T070000Z
DTEND;TZID=Europe/Brussels:20231107T160000Z
SUMMARY:ISS GUT! Leipzig 2023
DESCRIPTION:https://www.google.com/maps/search/?api=1&query=Leipziger+Messe%2C+Messe-Allee+1%2C+04356+Leipzig
END:VEVENT
BEGIN:VEVENT
UID:c74249847173aefead64ccd9d38aee59@instaff.jobs
DTSTAMP:20260422T183010Z
LOCATION:KONGRESSHALLE am Zoo Leipzig\, Pfaffendorfer Str\. 31\, 04105 Leipzig
DTSTART;TZID=Europe/Brussels:20231108T070000Z
DTEND;TZID=Europe/Brussels:20231109T160000Z
SUMMARY:protekt Leipzig 2023
DESCRIPTION:https://www.google.com/maps/search/?api=1&query=KONGRESSHALLE+am+Zoo+Leipzig%2C+Pfaffendorfer+Str.+31%2C+04105+Leipzig
END:VEVENT
BEGIN:VEVENT
UID:01e197f33574402f1f3ac9a93c2c260e@instaff.jobs
DTSTAMP:20260422T183010Z
LOCATION:Leipziger Messe\, Messe-Allee 1\, 04356 Leipzig
DTSTART;TZID=Europe/Brussels:20231122T070000Z
DTEND;TZID=Europe/Brussels:20231126T160000Z
SUMMARY:Touristik & Caravaning 2023
DESCRIPTION:https://www.google.com/maps/search/?api=1&query=Leipziger+Messe%2C+Messe-Allee+1%2C+04356+Leipzig
END:VEVENT
BEGIN:VEVENT
UID:b1efac6833eacf7761dad3acae037ee7@instaff.jobs
DTSTAMP:20260422T183010Z
LOCATION:HTWK Leipzig\, Nieper-Bau\, Karl-Liebknecht-Straße 134\/N 131\, 04277 Leipzig
DTSTART;TZID=Europe/Brussels:20231129T070000Z
DTEND;TZID=Europe/Brussels:20231129T160000Z
SUMMARY:Jobmesse WIK-Leipzig 2023
DESCRIPTION:https://www.google.com/maps/search/?api=1&query=HTWK+Leipzig%2C+Nieper-Bau%2C+Karl-Liebknecht-Straße+134/N+131%2C+04277+Leipzig
END:VEVENT
BEGIN:VEVENT
UID:47dd232b14c751fb3d68f644badbcaf4@instaff.jobs
DTSTAMP:20260422T183010Z
LOCATION:Dorint Hotel Leipzig\, Stephanstraße 6\, 04103 Leipzig
DTSTART;TZID=Europe/Brussels:20231205T070000Z
DTEND;TZID=Europe/Brussels:20231205T160000Z
SUMMARY:doctorsFuture Leipzig 2023
DESCRIPTION:https://www.google.com/maps/search/?api=1&query=Dorint+Hotel+Leipzig%2C+Stephanstraße+6%2C+04103+Leipzig
END:VEVENT
END:VCALENDAR