BEGIN:VCALENDAR
VERSION:2.0
PRODID:-//InStaff und Jobs GmbH
BEGIN:VEVENT
UID:f53c0d95776ecd28891182e5aa9af8bf@instaff.jobs
DTSTAMP:20260426T031135Z
LOCATION:Haus Grashof \(C\) Berliner Hochschule für Technik\, Luxemburger Str\. 10\, 13353 Berlin
DTSTART;TZID=Europe/Brussels:20240604T070000Z
DTEND;TZID=Europe/Brussels:20240605T160000Z
SUMMARY:Jobwunder BHT 2024
DESCRIPTION:https://www.google.com/maps/search/?api=1&query=Haus+Grashof+(C)+Berliner+Hochschule+für+Technik%2C+Luxemburger+Str.+10%2C+13353+Berlin
END:VEVENT
END:VCALENDAR