BEGIN:VCALENDAR
VERSION:2.0
PRODID:-//InStaff und Jobs GmbH
BEGIN:VEVENT
UID:37e2a09284fe141def536f6babad8554@instaff.jobs
DTSTAMP:20260423T205745Z
LOCATION:Messe Bremen\, Findorffstraße 101\, 28215 Bremen
DTSTART;TZID=Europe/Brussels:20240824T070000Z
DTEND;TZID=Europe/Brussels:20240825T160000Z
SUMMARY:19 jobmesse Bremen 2024
DESCRIPTION:https://www.google.com/maps/search/?api=1&query=Messe+Bremen%2C+Findorffstraße+101%2C+28215+Bremen
END:VEVENT
END:VCALENDAR