BEGIN:VCALENDAR
VERSION:2.0
PRODID:-//InStaff und Jobs GmbH
BEGIN:VEVENT
UID:07fb642b03480585db35b9cfa046d689@instaff.jobs
DTSTAMP:20260420T033401Z
LOCATION:Messe Nürnberg\, Messezentrum 1\, 90471 Nürnberg
DTSTART;TZID=Europe/Brussels:20240423T070000Z
DTEND;TZID=Europe/Brussels:20240426T160000Z
SUMMARY:IFH Intherm 2024
DESCRIPTION:https://www.google.com/maps/search/?api=1&query=Messe+Nürnberg%2C+Messezentrum+1%2C+90471+Nürnberg
END:VEVENT
END:VCALENDAR